BEGIN:VCALENDAR
PRODID:-//Solspace/Calendar 2.x//EN
VERSION:2.0
CALSCALE:GREGORIAN
BEGIN:VEVENT
UID:287f5bf39cc1dffcd3db8cd065d2d9c5@solspace.com
DTSTAMP:20260424T122629
DTSTART;VALUE=DATE:20040214
DTEND;VALUE=DATE:20040216
SUMMARY:SCYA Midwinters
END:VEVENT
END:VCALENDAR
