BEGIN:VCALENDAR
PRODID:-//Solspace/Calendar 2.x//EN
VERSION:2.0
CALSCALE:GREGORIAN
BEGIN:VEVENT
UID:906698e6433f547ab48446af225ba562@solspace.com
DTSTAMP:20260424T141331
DTSTART;VALUE=DATE:20060218
DTEND;VALUE=DATE:20060220
SUMMARY:SCYA Midwinters
END:VEVENT
END:VCALENDAR
