BEGIN:VCALENDAR
PRODID:-//Solspace/Calendar 2.x//EN
VERSION:2.0
CALSCALE:GREGORIAN
BEGIN:VEVENT
UID:63abbd4bf47a47e6c9706da5565e0686@solspace.com
DTSTAMP:20260424T122645
DTSTART;VALUE=DATE:20190208
DTEND;VALUE=DATE:20190211
SUMMARY:SCYA Midwinters
END:VEVENT
END:VCALENDAR
