BEGIN:VCALENDAR
PRODID:-//Solspace/Calendar 2.x//EN
VERSION:2.0
CALSCALE:GREGORIAN
BEGIN:VEVENT
UID:07917aff9c81c7f53835fd1aa94a1960@solspace.com
DTSTAMP:20260424T135732
DTSTART;VALUE=DATE:20130216
DTEND;VALUE=DATE:20130218
SUMMARY:SCYA Midwinters
END:VEVENT
END:VCALENDAR
