BEGIN:VCALENDAR
PRODID:-//Solspace/Calendar 2.x//EN
VERSION:2.0
CALSCALE:GREGORIAN
BEGIN:VEVENT
UID:d1bb96f335a50b77f5f594fbb48a9dc8@solspace.com
DTSTAMP:20260424T135616
DTSTART;VALUE=DATE:20110219
DTEND;VALUE=DATE:20110221
SUMMARY:SCYA Midwinters
END:VEVENT
END:VCALENDAR
