BEGIN:VCALENDAR
PRODID:-//Solspace/Calendar 2.x//EN
VERSION:2.0
CALSCALE:GREGORIAN
BEGIN:VEVENT
UID:f0883a3ab245e54f024f3b7d2ee0e2bb@solspace.com
DTSTAMP:20260424T120916
DTSTART;VALUE=DATE:20100220
DTEND;VALUE=DATE:20100222
SUMMARY:SCYA Midwinters
END:VEVENT
END:VCALENDAR
