BEGIN:VCALENDAR
PRODID:-//Solspace/Calendar 2.x//EN
VERSION:2.0
CALSCALE:GREGORIAN
BEGIN:VEVENT
UID:2869f62ea68e70c45950ca26697baa15@solspace.com
DTSTAMP:20260424T121510
DTSTART;VALUE=DATE:20090221
DTEND;VALUE=DATE:20090223
SUMMARY:SCYA Midwinters
END:VEVENT
END:VCALENDAR
