BEGIN:VCALENDAR
PRODID:-//Solspace/Calendar 2.x//EN
VERSION:2.0
CALSCALE:GREGORIAN
BEGIN:VEVENT
UID:2b134c73e621ccf1630c4b2ece82972a@solspace.com
DTSTAMP:20260424T140816
DTSTART;VALUE=DATE:20140215
DTEND;VALUE=DATE:20140217
SUMMARY:SCYA Midwinters
END:VEVENT
END:VCALENDAR
