BEGIN:VCALENDAR
PRODID:-//Solspace/Calendar 2.x//EN
VERSION:2.0
CALSCALE:GREGORIAN
BEGIN:VEVENT
UID:1e9d51e74010d700605edd2233c7c23d@solspace.com
DTSTAMP:20260424T122309
DTSTART;VALUE=DATE:20080216
DTEND;VALUE=DATE:20080218
SUMMARY:SCYA Midwinters
END:VEVENT
END:VCALENDAR
