BEGIN:VCALENDAR
PRODID:-//Solspace/Calendar 2.x//EN
VERSION:2.0
CALSCALE:GREGORIAN
BEGIN:VEVENT
UID:3479c36c70921cad33bfbe566166c761@solspace.com
DTSTAMP:20260424T121445
DTSTART;VALUE=DATE:20150221
DTEND;VALUE=DATE:20150223
SUMMARY:SCYA Midwinters
END:VEVENT
END:VCALENDAR
