BEGIN:VCALENDAR
PRODID:-//Solspace/Calendar 2.x//EN
VERSION:2.0
CALSCALE:GREGORIAN
BEGIN:VEVENT
UID:ed872c59484f9e303bd02ad57d90fc89@solspace.com
DTSTAMP:20260424T122339
DTSTART;VALUE=DATE:20160213
DTEND;VALUE=DATE:20160215
SUMMARY:SCYA Midwinters
END:VEVENT
END:VCALENDAR
