BEGIN:VCALENDAR
PRODID:-//Solspace/Calendar 2.x//EN
VERSION:2.0
CALSCALE:GREGORIAN
BEGIN:VEVENT
UID:2a15cec8027c4b51fff19d9b42433f45@solspace.com
DTSTAMP:20260424T165359
DTSTART:20210814T120000
DTEND:20210814T170000
SUMMARY:Sea Scouts FJ Sailing Practice
END:VEVENT
END:VCALENDAR
