BEGIN:VCALENDAR
PRODID:-//Solspace/Calendar 2.x//EN
VERSION:2.0
CALSCALE:GREGORIAN
BEGIN:VEVENT
UID:bc5e8a6b8a00a07332ef945a7154cee7@solspace.com
DTSTAMP:20260424T105152
DTSTART;VALUE=DATE:20251003
DTEND;VALUE=DATE:20251006
SUMMARY:Beneteau 36.7 North American Championship
END:VEVENT
END:VCALENDAR
